BEGIN:VCALENDAR
VERSION:2.0
PRODID:-//Tukios.com/
BEGIN:VEVENT
UID:10df6161-e1c2-4ed5-ae98-eac38760a4f4@www.choicecremation.com
DTSTAMP:20260423T003513Z
DTSTART:20260505T150000Z
DTEND:20260505T160000Z
SUMMARY:Visitation
DESCRIPTION:
URL:https://www.choicecremation.com/obituaries/laetitia-woods
LOCATION:Community of Nations Church 2025 Skillman Avenue West  Saint 
	Paul MN 55113
GEO:45.0028995;-93.1855718
END:VEVENT
END:VCALENDAR