BEGIN:VCALENDAR
VERSION:2.0
PRODID:-//Tukios.com/
BEGIN:VEVENT
UID:09bb6bad-f069-40a3-96df-cd9778301a8c@www.choicecremation.com
DTSTAMP:20260423T004229Z
DTSTART:20260505T160000Z
DTEND:20260505T170000Z
SUMMARY:Funeral Service
DESCRIPTION:
URL:https://www.choicecremation.com/obituaries/laetitia-woods
LOCATION:Community of Nations Church 2025 Skillman Avenue West  Saint 
	Paul MN 55113
GEO:45.0028995;-93.1855718
END:VEVENT
END:VCALENDAR